BEGIN:VCALENDAR
VERSION:2.0
PRODID:-//Dr. Amy Rothenberg - ECPv5.15.0.1//NONSGML v1.0//EN
CALSCALE:GREGORIAN
METHOD:PUBLISH
X-WR-CALNAME:Dr. Amy Rothenberg
X-ORIGINAL-URL:https://dramyrothenberg.com
X-WR-CALDESC:Events for Dr. Amy Rothenberg
REFRESH-INTERVAL;VALUE=DURATION:PT1H
X-Robots-Tag:noindex
X-PUBLISHED-TTL:PT1H
BEGIN:VTIMEZONE
TZID:Asia/Dubai
BEGIN:STANDARD
TZOFFSETFROM:+0400
TZOFFSETTO:+0400
TZNAME:+04
DTSTART:20220101T000000
END:STANDARD
END:VTIMEZONE
BEGIN:VEVENT
DTSTART;TZID=Asia/Dubai:20220815T120000
DTEND;TZID=Asia/Dubai:20220815T130000
DTSTAMP:20260422T075342
CREATED:20220625T124855Z
LAST-MODIFIED:20220625T125157Z
UID:1412-1660564800-1660568400@dramyrothenberg.com
SUMMARY:You Finished Treatment\, Now What? With TalkToMeGuy Radio
DESCRIPTION:Tune in for a conversation between Dr. Rothenberg and Richard Olson on his TalkToMeGuy radio show.
URL:https://dramyrothenberg.com/event/you-finished-treatment-now-what-with-talktomeguy-radio/
LOCATION:On Radio
ATTACH;FMTTYPE=image/png:https://dramyrothenberg.com/wp-content/uploads/2022/06/5e3498c481864960a82c327b014960db-1.png
END:VEVENT
END:VCALENDAR